BEGIN:VCALENDAR
VERSION:2.0
PRODID:-//Students//NONSGML v1.0//EN
CALSCALE:GREGORIAN
METHOD:PUBLISH
BEGIN:VEVENT
UID:5352-0
SUMMARY:WashU Spring Career Expo 2026
DTSTART:20260210T210000Z
DTEND:20260211T000000Z
DTSTAMP:20251124T162757Z
LAST-MODIFIED:20251124T162933Z
SEQUENCE:0
LOCATION:Field House WashU Athletic Complex; Danforth Campus
DESCRIPTION:\nAt the Expo\, students can connect with organizations from a wide range of industries\, including:\n\n\n\n\n\n\nBusiness\n\n\n\nCreative Industries\n\n\n\nEntrepreneurship\n\n\n\nGovernment\n\n\n\n\n\n\n\nHealth Care\n\n\n\nSciences\n\n\n\nSocial Impact\n\n\n\nTechnology\n\n\n\n\n\n\n\nLearn more about the Expo\n\n\n\nRead the news story\n\n\n\n\n\n
END:VEVENT
END:VCALENDAR