BEGIN:VCALENDAR
VERSION:2.0
PRODID:-//Students//NONSGML v1.0//EN
CALSCALE:GREGORIAN
METHOD:PUBLISH
BEGIN:VEVENT
UID:4538-0
SUMMARY:Activities Fair
DTSTART:20250829T200000Z
DTEND:20250829T220000Z
DTSTAMP:20250630T144130Z
LAST-MODIFIED:20250630T144130Z
SEQUENCE:0
DESCRIPTION:\n\n\n\n\nAre you ready to dive into campus life and find your niche? With over 400 student groups and departments participating\, you can explore endless opportunities at The Activities Fair.\n\n\n\nDon’t miss out on this incredible opportunity to enrich your college experience. Join us at the Activities Fair and take the first step towards making lasting memories and meaningful connections on campus. See you there!\n
END:VEVENT
END:VCALENDAR